BEGIN:VCALENDAR
VERSION:2.0
PRODID:-//wp-events-plugin.com//7.2.3.1//EN
BEGIN:VEVENT
UID:3@museumscafe-flossenbuerg.de
DTSTART;VALUE=DATE:20151221
DTEND;VALUE=DATE:20160111
DTSTAMP:20151126T071616Z
URL:https://www.museumscafe-flossenbuerg.de/events/weihnachtsferien/
SUMMARY:Weihnachtsferien
DESCRIPTION:
LOCATION:Museumscafé Flossenbürg\, Silberhüttenstraße 42\, Flossenbürg
 \, Bayern\, 92696 \, Oberpfalz\, Deutschland
GEO:49.73735;12.35511
X-APPLE-STRUCTURED-LOCATION;VALUE=URI;X-ADDRESS=Silberhüttenstraße 42\, F
 lossenbürg\, Bayern\, 92696 \, Oberpfalz\, Deutschland;X-APPLE-RADIUS=100
 ;X-TITLE=Museumscafé Flossenbürg:geo:49.73735,12.35511
END:VEVENT
END:VCALENDAR