BEGIN:VCALENDAR
VERSION:2.0
PRODID:-//wp-events-plugin.com//7.2.3.1//EN
BEGIN:VEVENT
UID:5@museumscafe-flossenbuerg.de
DTSTART;VALUE=DATE:20221219
DTEND;VALUE=DATE:20221220
DTSTAMP:20221129T162553Z
URL:https://www.museumscafe-flossenbuerg.de/events/weihnachtsferien-vom-19
 -12-2022-bis-10-01-2023/
SUMMARY:Weihnachtsferien vom 19.12.2022 bis 10.01.2023
DESCRIPTION:NEU NEU NEU \n...ab 2023 GEÄNDERTE ÖFFNUNGSZEITEN:\nMontag bi
 s Sonntag 10Uhr bis 17Uhr
END:VEVENT
END:VCALENDAR